BEGIN:VCALENDAR
VERSION:2.0
PRODID:-//A Developing Mind Academy - ECPv6.8.2.1//NONSGML v1.0//EN
CALSCALE:GREGORIAN
METHOD:PUBLISH
X-WR-CALNAME:A Developing Mind Academy
X-ORIGINAL-URL:https://staging.adevelopingmindacademy.org
X-WR-CALDESC:Events for A Developing Mind Academy
REFRESH-INTERVAL;VALUE=DURATION:PT1H
X-Robots-Tag:noindex
X-PUBLISHED-TTL:PT1H
BEGIN:VTIMEZONE
TZID:America/Los_Angeles
BEGIN:DAYLIGHT
TZOFFSETFROM:-0800
TZOFFSETTO:-0700
TZNAME:PDT
DTSTART:20190310T100000
END:DAYLIGHT
BEGIN:STANDARD
TZOFFSETFROM:-0700
TZOFFSETTO:-0800
TZNAME:PST
DTSTART:20191103T090000
END:STANDARD
END:VTIMEZONE
BEGIN:VEVENT
DTSTART;VALUE=DATE:20190701
DTEND;VALUE=DATE:20190704
DTSTAMP:20260422T010716
CREATED:20190530T233414Z
LAST-MODIFIED:20190531T000314Z
UID:2343-1561939200-1562198399@staging.adevelopingmindacademy.org
SUMMARY:DIY Game Week - Summer Camp
DESCRIPTION:This week we will use our creativity (and problem-solving skills when we run into challenges) while building games\, tools\, and toys from scratch using household items. Depending on level of difficulty and age/ability of students\, some of the awesome activities they may participate in include: creating a ring and pin game\, making soap crayons\, competing in racing spool competitions or turtle races using vehicles they’ve made themselves\, create the elements for – and play with! – a game called Substitution\, construct a sundial on the school grounds\, and create and play different musical instruments! \nSupplies Needed:\nWooden dowels\nRubber bands\nIvory Soap\nFood Coloring\nIce cube trays\, cupcake pans\, or silicone molds Straws
URL:https://staging.adevelopingmindacademy.org/event/diy-game-week-summer-camp/
END:VEVENT
BEGIN:VEVENT
DTSTART;VALUE=DATE:20190704
DTEND;VALUE=DATE:20190706
DTSTAMP:20260422T010716
CREATED:20190508T163910Z
LAST-MODIFIED:20190508T163910Z
UID:1739-1562198400-1562371199@staging.adevelopingmindacademy.org
SUMMARY:Observation of Independence Day - CLOSED
DESCRIPTION:
URL:https://staging.adevelopingmindacademy.org/event/observation-of-independence-day-closed/
END:VEVENT
BEGIN:VEVENT
DTSTART;VALUE=DATE:20190708
DTEND;VALUE=DATE:20190713
DTSTAMP:20260422T010716
CREATED:20190530T233500Z
LAST-MODIFIED:20190531T000432Z
UID:2345-1562544000-1562975999@staging.adevelopingmindacademy.org
SUMMARY:Harry Potter Week - Summer Camp
DESCRIPTION:Come join us for a wonderful wizardly week full of Harry Potter Fun!!! This week’s activities will include all things Harry Potter! We will start the week with a sorting ceremony to determine if you are a Slytherin\, Hufflepuff\, Ravenclaw\, or Gryffindor. We will then “attend” classes throughout the week at Hogwarts. Activities will include making a crystal ball\, potions class\, making your own book of spells\, astronomy\, and herbology. Students are encouraged to wear their Harry Potter gear if they have it!
URL:https://staging.adevelopingmindacademy.org/event/harry-potter-week-summer-camp/
END:VEVENT
BEGIN:VEVENT
DTSTART;VALUE=DATE:20190715
DTEND;VALUE=DATE:20190720
DTSTAMP:20260422T010716
CREATED:20190530T233550Z
LAST-MODIFIED:20190531T000420Z
UID:2347-1563148800-1563580799@staging.adevelopingmindacademy.org
SUMMARY:Art Attack - Summer Camp
DESCRIPTION:This week is all about art. We will be exploring art in some creative ways\, from making paper to rock painting\, creating wind chimes\, and printmaking. This is sure to be a fun filled week for all our artists out there!
URL:https://staging.adevelopingmindacademy.org/event/art-attack-summer-camp/
END:VEVENT
BEGIN:VEVENT
DTSTART;VALUE=DATE:20190722
DTEND;VALUE=DATE:20190727
DTSTAMP:20260422T010716
CREATED:20190530T233620Z
LAST-MODIFIED:20190531T000354Z
UID:2349-1563753600-1564185599@staging.adevelopingmindacademy.org
SUMMARY:Disney Week - Summer Camp
DESCRIPTION:This week we’ll be focusing on some of the most popular Disney movies with exciting activities! Each day we’ll spend time in a different movie. We’ll be archers like Merida from Brave\, we’ll explore the ocean and coral reefs like Finding Dory\, we’ll go deep into emotions with themes from Inside Out\, spend a day in the African savanna like Lion King\, and explore monsters with Monsters Inc.
URL:https://staging.adevelopingmindacademy.org/event/disney-week-summer-camp/
END:VEVENT
BEGIN:VEVENT
DTSTART;VALUE=DATE:20190729
DTEND;VALUE=DATE:20190803
DTSTAMP:20260422T010716
CREATED:20190530T233826Z
LAST-MODIFIED:20190531T000342Z
UID:2351-1564358400-1564790399@staging.adevelopingmindacademy.org
SUMMARY:Wacky Water Works - Summer Camp
DESCRIPTION:Everyone come and join us for water filled fun! For this week please make sure your children are in clothes they won’t mind getting wet and shoes that are either sandals or waterproof. We will be completing fishing challenges\, paddle boarding at Q’emiln Park\, making indoor water slides\, water balloon baseball\, water sponge super soakers\, water relay cup challenges\, and much more! If anyone would like to volunteer please contact Miss Afton by email at lowerelementarydm@gmail.com so we can make arrangements. All children will be required to have a life jacket in order to attend the paddle boarding activity so please plan in advance. Thank you! \nSupplies Needed:\nChild and adolescent-sized life vests for paddle boarding\, weather permitting. \nIf weather permits\, we will go paddle boarding at Q’emiln Park. We do not have a date or time scheduled yet for this field trip\, but we will keep you updated when it is scheduled. Please let your child’s teacher know if you’re interested in volunteering for this field trip no later than Friday\, June 5th so that we are able to plan.
URL:https://staging.adevelopingmindacademy.org/event/wacky-water-works-summer-camp/
END:VEVENT
END:VCALENDAR