BEGIN:VCALENDAR
VERSION:2.0
PRODID:-//A Developing Mind Academy - ECPv6.8.2.1//NONSGML v1.0//EN
CALSCALE:GREGORIAN
METHOD:PUBLISH
X-WR-CALNAME:A Developing Mind Academy
X-ORIGINAL-URL:https://staging.adevelopingmindacademy.org
X-WR-CALDESC:Events for A Developing Mind Academy
REFRESH-INTERVAL;VALUE=DURATION:PT1H
X-Robots-Tag:noindex
X-PUBLISHED-TTL:PT1H
BEGIN:VTIMEZONE
TZID:America/Los_Angeles
BEGIN:DAYLIGHT
TZOFFSETFROM:-0800
TZOFFSETTO:-0700
TZNAME:PDT
DTSTART:20190310T100000
END:DAYLIGHT
BEGIN:STANDARD
TZOFFSETFROM:-0700
TZOFFSETTO:-0800
TZNAME:PST
DTSTART:20191103T090000
END:STANDARD
END:VTIMEZONE
BEGIN:VEVENT
DTSTART;TZID=America/Los_Angeles:20190826T080000
DTEND;TZID=America/Los_Angeles:20190828T170000
DTSTAMP:20260420T103147
CREATED:20190530T234241Z
LAST-MODIFIED:20190530T234241Z
UID:2360-1566806400-1567011600@staging.adevelopingmindacademy.org
SUMMARY:STEM Challenge - Summer Camp
DESCRIPTION:We will be ending our summer break with a fun week of STEM building challenges! We’ll be creating marble rollercoasters\, participating in an egg drop (how high can we drop it without the egg breaking)\, and do some exciting mystery challenges.
URL:https://staging.adevelopingmindacademy.org/event/stem-challenge-summer-camp/
END:VEVENT
END:VCALENDAR