BEGIN:VCALENDAR
VERSION:2.0
PRODID:-//A Developing Mind Academy - ECPv6.8.2.1//NONSGML v1.0//EN
CALSCALE:GREGORIAN
METHOD:PUBLISH
X-WR-CALNAME:A Developing Mind Academy
X-ORIGINAL-URL:https://staging.adevelopingmindacademy.org
X-WR-CALDESC:Events for A Developing Mind Academy
REFRESH-INTERVAL;VALUE=DURATION:PT1H
X-Robots-Tag:noindex
X-PUBLISHED-TTL:PT1H
BEGIN:VTIMEZONE
TZID:America/Los_Angeles
BEGIN:DAYLIGHT
TZOFFSETFROM:-0800
TZOFFSETTO:-0700
TZNAME:PDT
DTSTART:20190310T100000
END:DAYLIGHT
BEGIN:STANDARD
TZOFFSETFROM:-0700
TZOFFSETTO:-0800
TZNAME:PST
DTSTART:20191103T090000
END:STANDARD
END:VTIMEZONE
BEGIN:VEVENT
DTSTART;VALUE=DATE:20190812
DTEND;VALUE=DATE:20190817
DTSTAMP:20260420T113746
CREATED:20190530T234032Z
LAST-MODIFIED:20190530T234032Z
UID:2356-1565568000-1565999999@staging.adevelopingmindacademy.org
SUMMARY:Ephemeral Art Week - Summer Camp
DESCRIPTION:This week we will be creating art out of items found in nature and be inspired by artists like Andy Goldsworthy\, Giuseppe Arcimboldo\, and Kathy Klein! We will start the week off learning about this unique approach to art and each day we will explore a different material or process to create works of art inspired by nature. The children will have a blast creating things that come from and integrate with the natural world around them. Summer hats are recommended for this week as we will spend a lot of time exploring and creating outdoors.
URL:https://staging.adevelopingmindacademy.org/event/ephemeral-art-week-summer-camp/
END:VEVENT
END:VCALENDAR