BEGIN:VCALENDAR
VERSION:2.0
PRODID:-//A Developing Mind Academy - ECPv6.8.2.1//NONSGML v1.0//EN
CALSCALE:GREGORIAN
METHOD:PUBLISH
X-WR-CALNAME:A Developing Mind Academy
X-ORIGINAL-URL:https://staging.adevelopingmindacademy.org
X-WR-CALDESC:Events for A Developing Mind Academy
REFRESH-INTERVAL;VALUE=DURATION:PT1H
X-Robots-Tag:noindex
X-PUBLISHED-TTL:PT1H
BEGIN:VTIMEZONE
TZID:America/Los_Angeles
BEGIN:DAYLIGHT
TZOFFSETFROM:-0800
TZOFFSETTO:-0700
TZNAME:PDT
DTSTART:20190310T100000
END:DAYLIGHT
BEGIN:STANDARD
TZOFFSETFROM:-0700
TZOFFSETTO:-0800
TZNAME:PST
DTSTART:20191103T090000
END:STANDARD
END:VTIMEZONE
BEGIN:VEVENT
DTSTART;VALUE=DATE:20190806
DTEND;VALUE=DATE:20190810
DTSTAMP:20260420T113748
CREATED:20190530T233934Z
LAST-MODIFIED:20190530T233950Z
UID:2353-1565049600-1565395199@staging.adevelopingmindacademy.org
SUMMARY:Photography Week - Summer Camp
DESCRIPTION:Join us for a creative week full of photography fun!!! Get ready to explore the art of photography through hands on experience\nwith a professional photographer! We will be exploring nature photography\, portraits\, and much more! If you have a digital camera\, please bring it in this week and bring out your inner photographer! \nSupplies Needed:\nIf you have a digital camera that you could send with your child\, please send it each day.\nWe will be using them throughout the week. Accidents happen\, so please only send with cameras that you’re ok with children sharing and you won’t miss if it gets lost or broken.
URL:https://staging.adevelopingmindacademy.org/event/photography-week-summer-camp/
END:VEVENT
END:VCALENDAR