BEGIN:VCALENDAR
VERSION:2.0
PRODID:-//A Developing Mind Academy - ECPv6.8.2.1//NONSGML v1.0//EN
CALSCALE:GREGORIAN
METHOD:PUBLISH
X-WR-CALNAME:A Developing Mind Academy
X-ORIGINAL-URL:https://staging.adevelopingmindacademy.org
X-WR-CALDESC:Events for A Developing Mind Academy
REFRESH-INTERVAL;VALUE=DURATION:PT1H
X-Robots-Tag:noindex
X-PUBLISHED-TTL:PT1H
BEGIN:VTIMEZONE
TZID:America/Los_Angeles
BEGIN:DAYLIGHT
TZOFFSETFROM:-0800
TZOFFSETTO:-0700
TZNAME:PDT
DTSTART:20190310T100000
END:DAYLIGHT
BEGIN:STANDARD
TZOFFSETFROM:-0700
TZOFFSETTO:-0800
TZNAME:PST
DTSTART:20191103T090000
END:STANDARD
END:VTIMEZONE
BEGIN:VEVENT
DTSTART;VALUE=DATE:20190729
DTEND;VALUE=DATE:20190803
DTSTAMP:20260420T113631
CREATED:20190530T233826Z
LAST-MODIFIED:20190531T000342Z
UID:2351-1564358400-1564790399@staging.adevelopingmindacademy.org
SUMMARY:Wacky Water Works - Summer Camp
DESCRIPTION:Everyone come and join us for water filled fun! For this week please make sure your children are in clothes they won’t mind getting wet and shoes that are either sandals or waterproof. We will be completing fishing challenges\, paddle boarding at Q’emiln Park\, making indoor water slides\, water balloon baseball\, water sponge super soakers\, water relay cup challenges\, and much more! If anyone would like to volunteer please contact Miss Afton by email at lowerelementarydm@gmail.com so we can make arrangements. All children will be required to have a life jacket in order to attend the paddle boarding activity so please plan in advance. Thank you! \nSupplies Needed:\nChild and adolescent-sized life vests for paddle boarding\, weather permitting. \nIf weather permits\, we will go paddle boarding at Q’emiln Park. We do not have a date or time scheduled yet for this field trip\, but we will keep you updated when it is scheduled. Please let your child’s teacher know if you’re interested in volunteering for this field trip no later than Friday\, June 5th so that we are able to plan.
URL:https://staging.adevelopingmindacademy.org/event/wacky-water-works-summer-camp/
END:VEVENT
END:VCALENDAR